BEGIN:VCALENDAR
VERSION:2.0
PRODID:-//Wellesley - ECPv6.15.17.1//NONSGML v1.0//EN
CALSCALE:GREGORIAN
METHOD:PUBLISH
X-WR-CALNAME:Wellesley
X-ORIGINAL-URL:https://wellesley.school.nz
X-WR-CALDESC:Events for Wellesley
REFRESH-INTERVAL;VALUE=DURATION:PT1H
X-Robots-Tag:noindex
X-PUBLISHED-TTL:PT1H
BEGIN:VTIMEZONE
TZID:Pacific/Auckland
BEGIN:STANDARD
TZOFFSETFROM:+1300
TZOFFSETTO:+1200
TZNAME:NZST
DTSTART:20240406T140000
END:STANDARD
BEGIN:DAYLIGHT
TZOFFSETFROM:+1200
TZOFFSETTO:+1300
TZNAME:NZDT
DTSTART:20240928T140000
END:DAYLIGHT
BEGIN:STANDARD
TZOFFSETFROM:+1300
TZOFFSETTO:+1200
TZNAME:NZST
DTSTART:20250405T140000
END:STANDARD
BEGIN:DAYLIGHT
TZOFFSETFROM:+1200
TZOFFSETTO:+1300
TZNAME:NZDT
DTSTART:20250927T140000
END:DAYLIGHT
BEGIN:STANDARD
TZOFFSETFROM:+1300
TZOFFSETTO:+1200
TZNAME:NZST
DTSTART:20260404T140000
END:STANDARD
BEGIN:DAYLIGHT
TZOFFSETFROM:+1200
TZOFFSETTO:+1300
TZNAME:NZDT
DTSTART:20260926T140000
END:DAYLIGHT
BEGIN:STANDARD
TZOFFSETFROM:+1300
TZOFFSETTO:+1200
TZNAME:NZST
DTSTART:20270403T140000
END:STANDARD
BEGIN:DAYLIGHT
TZOFFSETFROM:+1200
TZOFFSETTO:+1300
TZNAME:NZDT
DTSTART:20270925T140000
END:DAYLIGHT
END:VTIMEZONE
BEGIN:VEVENT
DTSTART;TZID=Pacific/Auckland:20260421T190000
DTEND;TZID=Pacific/Auckland:20260421T203000
DTSTAMP:20260422T222455
CREATED:20260401T055645Z
LAST-MODIFIED:20260401T055645Z
UID:10000058-1776798000-1776803400@wellesley.school.nz
SUMMARY:WPA Meeting
DESCRIPTION:
URL:https://wellesley.school.nz/event/wpa-meeting-3/
END:VEVENT
BEGIN:VEVENT
DTSTART;VALUE=DATE:20251219
DTEND;VALUE=DATE:20251220
DTSTAMP:20260422T222455
CREATED:20250917T050254Z
LAST-MODIFIED:20260319T063609Z
UID:10000056-1766102400-1766188799@wellesley.school.nz
SUMMARY:Office closes for the year
DESCRIPTION:
URL:https://wellesley.school.nz/event/office-closes-for-the-year/
CATEGORIES:Alumni events
ATTACH;FMTTYPE=image/jpeg:https://wellesley.school.nz/wp-content/uploads/2025/08/sports.jpg
END:VEVENT
BEGIN:VEVENT
DTSTART;TZID=Pacific/Auckland:20251212T090000
DTEND;TZID=Pacific/Auckland:20251212T110000
DTSTAMP:20260422T222455
CREATED:20250917T050240Z
LAST-MODIFIED:20251027T075013Z
UID:10000054-1765530000-1765537200@wellesley.school.nz
SUMMARY:Final Prizegiving & Year 8 Morning tea
DESCRIPTION:
URL:https://wellesley.school.nz/event/final-prizegiving-year-8-morning-tea/
CATEGORIES:Alumni events
ATTACH;FMTTYPE=image/jpeg:https://wellesley.school.nz/wp-content/uploads/2025/08/device.jpg
END:VEVENT
BEGIN:VEVENT
DTSTART;VALUE=DATE:20251212
DTEND;VALUE=DATE:20251213
DTSTAMP:20260422T222455
CREATED:20250917T050241Z
LAST-MODIFIED:20251027T075013Z
UID:10000055-1765497600-1765583999@wellesley.school.nz
SUMMARY:Final Day Y5-8
DESCRIPTION:
URL:https://wellesley.school.nz/event/final-day-y5-8/
CATEGORIES:Alumni events
ATTACH;FMTTYPE=image/jpeg:https://wellesley.school.nz/wp-content/uploads/2025/08/learningthat.jpg
END:VEVENT
BEGIN:VEVENT
DTSTART;TZID=Pacific/Auckland:20251211T113000
DTEND;TZID=Pacific/Auckland:20251211T123000
DTSTAMP:20260422T222455
CREATED:20250917T050240Z
LAST-MODIFIED:20251027T075013Z
UID:10000053-1765452600-1765456200@wellesley.school.nz
SUMMARY:Final Assembley
DESCRIPTION:
URL:https://wellesley.school.nz/event/final-assembley/
ATTACH;FMTTYPE=image/jpeg:https://wellesley.school.nz/wp-content/uploads/2025/09/mision.jpg
END:VEVENT
BEGIN:VEVENT
DTSTART;TZID=Pacific/Auckland:20251211T090000
DTEND;TZID=Pacific/Auckland:20251211T150000
DTSTAMP:20260422T222455
CREATED:20250917T050240Z
LAST-MODIFIED:20251027T075013Z
UID:10000052-1765443600-1765465200@wellesley.school.nz
SUMMARY:Y1-4 Last Day
DESCRIPTION:
URL:https://wellesley.school.nz/event/y1-4-last-day/
ATTACH;FMTTYPE=image/jpeg:https://wellesley.school.nz/wp-content/uploads/2025/08/special.jpg
END:VEVENT
BEGIN:VEVENT
DTSTART;VALUE=DATE:20251207
DTEND;VALUE=DATE:20251214
DTSTAMP:20260422T222455
CREATED:20250917T050239Z
LAST-MODIFIED:20251027T075013Z
UID:10000047-1765065600-1765670399@wellesley.school.nz
SUMMARY:Week 10 Term 4
DESCRIPTION:
URL:https://wellesley.school.nz/event/week-10-term-4/
END:VEVENT
BEGIN:VEVENT
DTSTART;TZID=Pacific/Auckland:20251205T110000
DTEND;TZID=Pacific/Auckland:20251205T123000
DTSTAMP:20260422T222455
CREATED:20250917T050239Z
LAST-MODIFIED:20251027T075013Z
UID:10000046-1764932400-1764937800@wellesley.school.nz
SUMMARY:Junior Prizegiving
DESCRIPTION:
URL:https://wellesley.school.nz/event/junior-prizegiving/
END:VEVENT
BEGIN:VEVENT
DTSTART;TZID=Pacific/Auckland:20251205T090000
DTEND;TZID=Pacific/Auckland:20251205T110000
DTSTAMP:20260422T222455
CREATED:20250917T050240Z
LAST-MODIFIED:20251027T075013Z
UID:10000051-1764925200-1764932400@wellesley.school.nz
SUMMARY:Leavers Serivce
DESCRIPTION:
URL:https://wellesley.school.nz/event/leavers-serivce/
ATTACH;FMTTYPE=image/jpeg:https://wellesley.school.nz/wp-content/uploads/2025/09/image-3-2.jpg
END:VEVENT
BEGIN:VEVENT
DTSTART;TZID=Pacific/Auckland:20251202T173000
DTEND;TZID=Pacific/Auckland:20251202T200000
DTSTAMP:20260422T222455
CREATED:20250917T050240Z
LAST-MODIFIED:20251027T075013Z
UID:10000050-1764696600-1764705600@wellesley.school.nz
SUMMARY:Year 8 Leavers Dinner
DESCRIPTION:
URL:https://wellesley.school.nz/event/year-8-leavers-dinner/
END:VEVENT
BEGIN:VEVENT
DTSTART;VALUE=DATE:20251130
DTEND;VALUE=DATE:20251207
DTSTAMP:20260422T222455
CREATED:20250917T050239Z
LAST-MODIFIED:20251027T075013Z
UID:10000048-1764460800-1765065599@wellesley.school.nz
SUMMARY:Week 9 Term 4
DESCRIPTION:
URL:https://wellesley.school.nz/event/week-9-term-4/
END:VEVENT
BEGIN:VEVENT
DTSTART;VALUE=DATE:20251128
DTEND;VALUE=DATE:20251129
DTSTAMP:20260422T222455
CREATED:20250925T084630Z
LAST-MODIFIED:20251027T074959Z
UID:10000057-1764288000-1764374399@wellesley.school.nz
SUMMARY:Croydon Sports Day
DESCRIPTION:
URL:https://wellesley.school.nz/event/croydon-sports-day/
END:VEVENT
BEGIN:VEVENT
DTSTART;VALUE=DATE:20251123
DTEND;VALUE=DATE:20251130
DTSTAMP:20260422T222455
CREATED:20250917T050240Z
LAST-MODIFIED:20251027T074959Z
UID:10000049-1763856000-1764460799@wellesley.school.nz
SUMMARY:Week 8 Term 4
DESCRIPTION:
URL:https://wellesley.school.nz/event/week-8-term-4/
END:VEVENT
BEGIN:VEVENT
DTSTART;VALUE=DATE:20251121
DTEND;VALUE=DATE:20251122
DTSTAMP:20260422T222455
CREATED:20250917T050225Z
LAST-MODIFIED:20251027T074959Z
UID:10000045-1763683200-1763769599@wellesley.school.nz
SUMMARY:William Pike
DESCRIPTION:
URL:https://wellesley.school.nz/event/william-pike/
END:VEVENT
BEGIN:VEVENT
DTSTART;TZID=Pacific/Auckland:20251120T080000
DTEND;TZID=Pacific/Auckland:20251120T083000
DTSTAMP:20260422T222455
CREATED:20250917T050225Z
LAST-MODIFIED:20251027T074959Z
UID:10000043-1763625600-1763627400@wellesley.school.nz
SUMMARY:Scots Senior Fixture
DESCRIPTION:
URL:https://wellesley.school.nz/event/scots-senior-fixture/
END:VEVENT
BEGIN:VEVENT
DTSTART;VALUE=DATE:20251120
DTEND;VALUE=DATE:20251121
DTSTAMP:20260422T222455
CREATED:20250917T050225Z
LAST-MODIFIED:20251027T074959Z
UID:10000044-1763596800-1763683199@wellesley.school.nz
SUMMARY:Scots Senior Fixture
DESCRIPTION:
URL:https://wellesley.school.nz/event/scots-senior-fixture-2/
END:VEVENT
BEGIN:VEVENT
DTSTART;TZID=Pacific/Auckland:20251118T080000
DTEND;TZID=Pacific/Auckland:20251118T083000
DTSTAMP:20260422T222455
CREATED:20250917T050225Z
LAST-MODIFIED:20251027T074959Z
UID:10000041-1763452800-1763454600@wellesley.school.nz
SUMMARY:Scots Colts Fixture - Home
DESCRIPTION:
URL:https://wellesley.school.nz/event/scots-colts-fixture-home/
END:VEVENT
BEGIN:VEVENT
DTSTART;VALUE=DATE:20251118
DTEND;VALUE=DATE:20251119
DTSTAMP:20260422T222455
CREATED:20250917T050225Z
LAST-MODIFIED:20251027T074959Z
UID:10000042-1763424000-1763510399@wellesley.school.nz
SUMMARY:Scots Colts Fixture
DESCRIPTION:
URL:https://wellesley.school.nz/event/scots-colts-fixture/
END:VEVENT
BEGIN:VEVENT
DTSTART;VALUE=DATE:20251116
DTEND;VALUE=DATE:20251123
DTSTAMP:20260422T222455
CREATED:20250917T050224Z
LAST-MODIFIED:20251027T074959Z
UID:10000036-1763251200-1763855999@wellesley.school.nz
SUMMARY:Week 7 Term 4
DESCRIPTION:
URL:https://wellesley.school.nz/event/week-7-term-4/
END:VEVENT
BEGIN:VEVENT
DTSTART;VALUE=DATE:20251114
DTEND;VALUE=DATE:20251115
DTSTAMP:20260422T222455
CREATED:20250917T050211Z
LAST-MODIFIED:20251027T074959Z
UID:10000035-1763078400-1763164799@wellesley.school.nz
SUMMARY:Senior Triathlon
DESCRIPTION:
URL:https://wellesley.school.nz/event/senior-triathlon/
END:VEVENT
BEGIN:VEVENT
DTSTART;VALUE=DATE:20251113
DTEND;VALUE=DATE:20251114
DTSTAMP:20260422T222455
CREATED:20250917T050225Z
LAST-MODIFIED:20251027T074959Z
UID:10000040-1762992000-1763078399@wellesley.school.nz
SUMMARY:Hadlow Senior Fixture
DESCRIPTION:
URL:https://wellesley.school.nz/event/hadlow-senior-fixture/
END:VEVENT
BEGIN:VEVENT
DTSTART;VALUE=DATE:20251109
DTEND;VALUE=DATE:20251116
DTSTAMP:20260422T222455
CREATED:20250917T050224Z
LAST-MODIFIED:20251027T074946Z
UID:10000037-1762646400-1763251199@wellesley.school.nz
SUMMARY:Week 6 Term 4
DESCRIPTION:
URL:https://wellesley.school.nz/event/week-6-term-4/
END:VEVENT
BEGIN:VEVENT
DTSTART;VALUE=DATE:20251109
DTEND;VALUE=DATE:20251110
DTSTAMP:20260422T222455
CREATED:20250917T050224Z
LAST-MODIFIED:20251027T074946Z
UID:10000039-1762646400-1762732799@wellesley.school.nz
SUMMARY:2.00pm Open Day
DESCRIPTION:
URL:https://wellesley.school.nz/event/2-00pm-open-day/
END:VEVENT
BEGIN:VEVENT
DTSTART;VALUE=DATE:20251107
DTEND;VALUE=DATE:20251108
DTSTAMP:20260422T222455
CREATED:20250917T050211Z
LAST-MODIFIED:20251027T074946Z
UID:10000034-1762473600-1762559999@wellesley.school.nz
SUMMARY:Year 7 Pencarrow Bike Ride
DESCRIPTION:
URL:https://wellesley.school.nz/event/year-7-pencarrow-bike-ride/
END:VEVENT
BEGIN:VEVENT
DTSTART;VALUE=DATE:20251106
DTEND;VALUE=DATE:20251107
DTSTAMP:20260422T222455
CREATED:20250917T050211Z
LAST-MODIFIED:20251027T074946Z
UID:10000033-1762387200-1762473599@wellesley.school.nz
SUMMARY:Colts Huntly Fixture
DESCRIPTION:
URL:https://wellesley.school.nz/event/colts-huntly-fixture/
END:VEVENT
BEGIN:VEVENT
DTSTART;VALUE=DATE:20251106
DTEND;VALUE=DATE:20251107
DTSTAMP:20260422T222455
CREATED:20250917T050211Z
LAST-MODIFIED:20251027T074946Z
UID:10000032-1762387200-1762473599@wellesley.school.nz
SUMMARY:Huntly Senior Fixture
DESCRIPTION:
URL:https://wellesley.school.nz/event/huntly-senior-fixture/
END:VEVENT
BEGIN:VEVENT
DTSTART;TZID=Pacific/Auckland:20251104T190000
DTEND;TZID=Pacific/Auckland:20251104T193000
DTSTAMP:20260422T222455
CREATED:20250917T050211Z
LAST-MODIFIED:20251027T074946Z
UID:10000031-1762282800-1762284600@wellesley.school.nz
SUMMARY:WPA Meeting
DESCRIPTION:
URL:https://wellesley.school.nz/event/wpa-meeting-2/
END:VEVENT
BEGIN:VEVENT
DTSTART;VALUE=DATE:20251102
DTEND;VALUE=DATE:20251109
DTSTAMP:20260422T222455
CREATED:20250917T050224Z
LAST-MODIFIED:20251027T074946Z
UID:10000038-1762041600-1762646399@wellesley.school.nz
SUMMARY:Week 5 Term 4
DESCRIPTION:
URL:https://wellesley.school.nz/event/week-5-term-4/
END:VEVENT
BEGIN:VEVENT
DTSTART;VALUE=DATE:20251029
DTEND;VALUE=DATE:20251101
DTSTAMP:20260422T222455
CREATED:20250917T050211Z
LAST-MODIFIED:20251027T074946Z
UID:10000030-1761696000-1761955199@wellesley.school.nz
SUMMARY:Auckland Choir Trip
DESCRIPTION:
URL:https://wellesley.school.nz/event/auckland-choir-trip/
END:VEVENT
BEGIN:VEVENT
DTSTART;VALUE=DATE:20251027
DTEND;VALUE=DATE:20251028
DTSTAMP:20260422T222455
CREATED:20250917T050210Z
LAST-MODIFIED:20251027T074946Z
UID:10000029-1761523200-1761609599@wellesley.school.nz
SUMMARY:Labour Day - Closed
DESCRIPTION:
URL:https://wellesley.school.nz/event/labour-day-closed/
END:VEVENT
END:VCALENDAR